BEGIN:VCALENDAR
VERSION:2.0
PRODID:-//Tara Mandala-Sangha DE - ECPv6.15.18//NONSGML v1.0//EN
CALSCALE:GREGORIAN
METHOD:PUBLISH
X-ORIGINAL-URL:https://www.taramandala-sangha.de
X-WR-CALDESC:Veranstaltungen für Tara Mandala-Sangha DE
REFRESH-INTERVAL;VALUE=DURATION:PT1H
X-Robots-Tag:noindex
X-PUBLISHED-TTL:PT1H
BEGIN:VTIMEZONE
TZID:Europe/Berlin
BEGIN:DAYLIGHT
TZOFFSETFROM:+0100
TZOFFSETTO:+0200
TZNAME:CEST
DTSTART:20190331T010000
END:DAYLIGHT
BEGIN:STANDARD
TZOFFSETFROM:+0200
TZOFFSETTO:+0100
TZNAME:CET
DTSTART:20191027T010000
END:STANDARD
BEGIN:DAYLIGHT
TZOFFSETFROM:+0100
TZOFFSETTO:+0200
TZNAME:CEST
DTSTART:20200329T010000
END:DAYLIGHT
BEGIN:STANDARD
TZOFFSETFROM:+0200
TZOFFSETTO:+0100
TZNAME:CET
DTSTART:20201025T010000
END:STANDARD
BEGIN:DAYLIGHT
TZOFFSETFROM:+0100
TZOFFSETTO:+0200
TZNAME:CEST
DTSTART:20210328T010000
END:DAYLIGHT
BEGIN:STANDARD
TZOFFSETFROM:+0200
TZOFFSETTO:+0100
TZNAME:CET
DTSTART:20211031T010000
END:STANDARD
END:VTIMEZONE
BEGIN:VEVENT
DTSTART;TZID=Europe/Berlin:20200502T160000
DTEND;TZID=Europe/Berlin:20200502T173000
DTSTAMP:20260422T203130
CREATED:20200421T183156Z
LAST-MODIFIED:20200421T183156Z
UID:10000417-1588435200-1588440600@www.taramandala-sangha.de
SUMMARY:Online - Die eigenen Dämonen nähren mit Dr. Barbara Staemmler
DESCRIPTION:  \n \nAn diesem Samstag bietet Dr. Barbara Staemmler eine Einführung in die Methode und Anleitung der Praxis. \nUnter Dämonen versteht man innere Kräfte\, die uns unsere Energie nehmen. Gerade jetzt kann uns die Angst vor Ansteckung mit dem Corona-Virus viel Kraft rauben\, oder unsere Angst vor wirtschaftlichen Schwierigkeiten oder die Angst\, andere Menschen zu verlieren\, die uns wichtig sind. \nDiese unterschiedlichen Ängste\, die durch diese Pandemie ausgelöst werden\, können durch die Praxis des „Nährens der eigenen Dämonen“ befriedet und transformiert werden. \nDiese Praxis wurde von Lama Tsültrim Allione aus der tibetischen Chöd-Praxis entwickelt und ist eine wirkungsvolle Methode\, mit unseren Emotionen zu arbeiten\, sowohl für Buddhisten wie für Nicht-Buddhisten. \nUm eine Spende für das Kamalashila-Institut wird gebeten. \nAnmeldung; https://us02web.zoom.us/meeting/register/
URL:https://www.taramandala-sangha.de/veranstaltung/online-die-eigenen-daemonen-naehren-mit-dr-barbara-staemmler-2/
LOCATION:Kamalashila Institut\, Kirchstraße 22a\, Langenfeld\, 56729\, Deutschland
GEO:50.3765546;7.0901151
X-APPLE-STRUCTURED-LOCATION;VALUE=URI;X-ADDRESS=Kamalashila Institut Kirchstraße 22a Langenfeld 56729 Deutschland;X-APPLE-RADIUS=500;X-TITLE=Kirchstraße 22a:geo:7.0901151,50.3765546
END:VEVENT
END:VCALENDAR