BEGIN:VCALENDAR
VERSION:2.0
PRODID:-//Tara Mandala-Sangha DE - ECPv6.15.18//NONSGML v1.0//EN
CALSCALE:GREGORIAN
METHOD:PUBLISH
X-ORIGINAL-URL:https://www.taramandala-sangha.de
X-WR-CALDESC:Veranstaltungen für Tara Mandala-Sangha DE
REFRESH-INTERVAL;VALUE=DURATION:PT1H
X-Robots-Tag:noindex
X-PUBLISHED-TTL:PT1H
BEGIN:VTIMEZONE
TZID:Europe/Berlin
BEGIN:DAYLIGHT
TZOFFSETFROM:+0100
TZOFFSETTO:+0200
TZNAME:CEST
DTSTART:20200329T010000
END:DAYLIGHT
BEGIN:STANDARD
TZOFFSETFROM:+0200
TZOFFSETTO:+0100
TZNAME:CET
DTSTART:20201025T010000
END:STANDARD
BEGIN:DAYLIGHT
TZOFFSETFROM:+0100
TZOFFSETTO:+0200
TZNAME:CEST
DTSTART:20210328T010000
END:DAYLIGHT
BEGIN:STANDARD
TZOFFSETFROM:+0200
TZOFFSETTO:+0100
TZNAME:CET
DTSTART:20211031T010000
END:STANDARD
BEGIN:DAYLIGHT
TZOFFSETFROM:+0100
TZOFFSETTO:+0200
TZNAME:CEST
DTSTART:20220327T010000
END:DAYLIGHT
BEGIN:STANDARD
TZOFFSETFROM:+0200
TZOFFSETTO:+0100
TZNAME:CET
DTSTART:20221030T010000
END:STANDARD
BEGIN:DAYLIGHT
TZOFFSETFROM:+0100
TZOFFSETTO:+0200
TZNAME:CEST
DTSTART:20230326T010000
END:DAYLIGHT
BEGIN:STANDARD
TZOFFSETFROM:+0200
TZOFFSETTO:+0100
TZNAME:CET
DTSTART:20231029T010000
END:STANDARD
BEGIN:DAYLIGHT
TZOFFSETFROM:+0100
TZOFFSETTO:+0200
TZNAME:CEST
DTSTART:20240331T010000
END:DAYLIGHT
BEGIN:STANDARD
TZOFFSETFROM:+0200
TZOFFSETTO:+0100
TZNAME:CET
DTSTART:20241027T010000
END:STANDARD
BEGIN:DAYLIGHT
TZOFFSETFROM:+0100
TZOFFSETTO:+0200
TZNAME:CEST
DTSTART:20250330T010000
END:DAYLIGHT
BEGIN:STANDARD
TZOFFSETFROM:+0200
TZOFFSETTO:+0100
TZNAME:CET
DTSTART:20251026T010000
END:STANDARD
END:VTIMEZONE
BEGIN:VEVENT
DTSTART;TZID=Europe/Berlin:20240614T190000
DTEND;TZID=Europe/Berlin:20240616T150000
DTSTAMP:20260424T125413
CREATED:20240220T121851Z
LAST-MODIFIED:20240317T160301Z
UID:10000894-1718391600-1718550000@www.taramandala-sangha.de
SUMMARY:Den Dämonen Nahrung geben – Wochenende mit offenem Abendvortrag – live und online
DESCRIPTION:Dämonen – das sind unsere Verwirrungen und Ängste\, Depressionen\, Minderwertigkeitsgefühle und gefühlsmässigen Blockaden. Es sind Krankheiten und schlechte Angewohnheiten im Umgang mit uns selbst und anderen. Sie hindern uns oft ohne erkennbaren Grund daran\, ein leichtes und frisches Leben zu führen. Sie nehmen uns den Mut und das Vertrauen. Lama Tsültrim Allione hat mit dem Prozess „Den Dämonen Nahrung geben“ 5 Schritte entwickelt um diese Hindernisse zu transformieren.\nStatt diese Dämonen zu bekämpfen treten wir in eine annehmend-mitfühlende ‚nährende‘ Beziehung zu ihnen. Auf diese Weise können die Dämonen in Weisheits-Energie verwandelt werden\, welche uns hilft und stärkt. Diese Methode entstammt der alten tibetischen „Chöd“ Praxis der tantrischen Yogini Machig Labdrön aus dem 11. Jahrhundert. Lama Tsültrim hat sie für westliche Menschen in modernes psychologisches Verständnis übertragen und damit ein äußerst effektives Werkzeug zur Selbsthilfe geschaffen\, um alltägliche seelische Konflikte zu lösen und Freiheit und inneren Frieden zu gewinnen. \nDas Buch zu dieser Methode:\nTsültrim Allione: “Den Dämonen Nahrung geben” Buddhistische Techniken zur Konfliktlösung \nDies ist ein fortführendes Seminar zu der Methode des Dämonenfütterns. Du bist aber auch ohne Vorkenntnisse willkommen. Wir werden uns mit der heilsamen Energie des/der Verbündeten vertraut machen und die Methode viel mit Partnerarbeiten üben. Im intensiven Austausch können Erfahrungen eingeordnet und Fragen geklärt werden. Wir werden verschiedene Kategorien von Dämonen kennen lernen\, wie innere oder äußere\, persönliche und kollektive\, sowie solche aus der Ahnenlinie. \nOrganisation\, Anmeldung und Veranstaltungsort:\nAchtsamkeitszentrum Haus Ananta\, Niederesch 28\, 49214 Bad Rothenfelde\nE-Mail: info@haus-ananta.de\nAnmeldung unter diesem Link\nHaus Ananta ist Teil eines Bauernhofes und liegt wunderschön\, von saftigen Wiesen und Wäldern umgeben. Christa Trobisch leitet dieses Zentrum mit großer Liebe und Hingabe. Es tut der Seele und dem Gaumen gut. In Haus Ananta selbst stehen drei Gästezimmer zur Verfügung. Weitere Unterkünfte finden Sie in der unmittelbaren Umgebung. Für Unterkunft und Verpflegung wenden Sie sich bitte an Christa Trobisch. \nSeminarzeiten: Freitag 14.6.2024 Abendvortrag und Übung 19.00 Uhr bis 21.00 Uhr\nSamstag 15.6.24 von 10.00 Uhr – 18.00 Uhr\, So. 16.6.24 von 10.00 Uhr – 15.00 Uhr\nKosten: Nur Abendvortrag mit Übung: 15\,- € – Seminar: (inklusive Abendvortrag): 180\,- € + Umlage für die Raummiete (der Betrag richtet sich nach der Größe der Gruppe) + Unterkunft + Verpflegung \nTeilnahmebedingungen: Deine Teilnahme ist nur mit vorheriger Anmeldung möglich\, da es eine begrenzte Anzahl von Plätzen gibt – auch für den Abendvortrag. Anmeldung bitte schriftlich per Email. \nDer Workshop erhebt keinen Anspruch auf Psycho- oder ärztliche Therapie. Die Teilnahme erfolgt auf eigene Verantwortung. Die Veranstalterin übernimmt keinerlei Haftung. \nKursleiterin:\nIm Jahr 2009 habe ich\, Minka Hauschild von Tsültrim Allione die Befugnis erhalten\, dieses Wochenende Seminar durchzuführen um Menschen in diesen 5 Schritte Prozess einzuführen. \nWeitere Infos: \nhttps://www.minka-hauschild.de/programm/den-d%C3%A4monen-nahrung-geben-wochenend-seminar/ \n  \n  \n  \nLama Tsültrim Allione\, ist eine der ersten Amerikanerinnen\, die in der tibetischen Tradition ordiniert wurden. Sie lebte viele Jahre als buddhistische Nonne im Himalaya und studierte bei tibetischen Lehrern\, kehrte dann aber nach Amerika zu einem weltlichen Leben zurück\, heiratete und wurde Mutter dreier Kinder. Tsültrim Allione beschäftigt sich intensiv mit den weiblichen Traditionen im tibetischen Buddhismus. Sie ist Gründerin des buddhistischen Meditations- und Retreatzentrums Tara Mandala in Colorado. Als beliebte spirituelle Lehrerin besucht sie regelmäßig Deutschland\, Österreich und die Schweiz. Ihre Bücher ‚Tibets weise Frauen‘ und ‚Die 5 Dakinis: Die himmlischen Kräfte des Buddhismus‘ sind wie auch das oben genannte „Dämonen nähren“ in viele Sprachen übersetzt. https://www.taramandala.org/
URL:https://www.taramandala-sangha.de/veranstaltung/den-daemonen-nahrung-geben-wochenende-mit-offenem-abendvortrag-live-und-online/
LOCATION:Haus Ananta\, Niederesch 28\, Bad Rothenfelde\, 49214\, Deutschland
CATEGORIES:Den Dämonen Nahrung geben
GEO:52.093;8.1549099
X-APPLE-STRUCTURED-LOCATION;VALUE=URI;X-ADDRESS=Haus Ananta Niederesch 28 Bad Rothenfelde 49214 Deutschland;X-APPLE-RADIUS=500;X-TITLE=Niederesch 28:geo:8.1549099,52.093
END:VEVENT
BEGIN:VEVENT
DTSTART;TZID=Europe/Berlin:20231201T190000
DTEND;TZID=Europe/Berlin:20231203T150000
DTSTAMP:20260424T125413
CREATED:20231024T082510Z
LAST-MODIFIED:20231114T085848Z
UID:10000484-1701457200-1701615600@www.taramandala-sangha.de
SUMMARY:"Den Dämonen Nahrung geben"  – Wochenende mit offenem Abendvortrag
DESCRIPTION:Dämonen – das sind unsere Verwirrungen und Ängste\, Minderwertigkeiten und Projektionen. Es sind Krankheiten und schlechte Angewohnheiten\, im Umgang mit uns selbst und anderen. Sie hindern uns oft\, ohne erkennbaren Grund\, daran\, ein leichtes und frisches Leben zu führen. Sie nehmen unseren Mut\, und das Vertrauen.\nLama Tsültrim Allione hat mit dem Prozess „Den Dämonen Nahrung geben“ 5 Schritte entwickelt um unsere Hindernismacher zu transformieren. \nDabei wenden wir uns den Dämonen zu und schauen was Sie eigentlich brauchen\, anstatt ihrer dringend und schnell ledig werden zu wollen. Auf diese Weise können die Dämonen in eine Weisheits Energie verwandelt werden\, die uns hilft und nährt.\nDiese Methode entstammt der alten tibetischen „Chöd“ Praxis von der tantrischen Yogini Machig Labdrön aus dem 11. Jahrhundert. Sie ist mit westlich psychologischen Verständnis für Menschen gedacht die einen gangbaren Weg für Ihren Alltag suchen\, um mit den eigenen Schatten in einem transformativen Prozess zu sein. \nDas Buch zu dieser Methode: Tsültrim Allione: “Den Dämonen Nahrung geben” Buddhistische Techniken zur Konfliktlösung \nOrt: Haus Ananta in Bad Rothenfelde\nDie Teilnahme ist online und live möglich.\nZeit:  Fr. 1. 12. – So. 3. 12. 2023\nFreitag 1. 12. 2023 Abendvortrag und Übung 19.00 Uhr bis 21.00 Uhr\nSa. 2. 12. ’23 von 10.00 Uhr – 18.00 Uhr\, So. 3. 12. ’23 von 10.00 Uhr – 15.00 Uhr\nKursgebühr: Nur Abendvortrag mit Übung: 15\,- € Seminar: (inclusive Abendvortrag): 180\,- € \nOrganisation\, Anmeldung und Veranstaltungsort:\nAchtsamkeitszentrum Haus Ananta\, Niederesch 28\, 49214 Bad Rothenfelde\nAnmeldung bei Christa Trobisch\nMobil: 0151 15558351\nE-Mail: info@haus-ananta.de \nHaus Ananta ist Teil eines Bauernhofes und liegt wunderschön\, von saftigen Wiesen und Wäldern umgeben. Christa Trobisch leitet dieses Zentrum mit großer Liebe und Hingabe. Es tut der Seele und dem Gaumen gut. In Haus Ananta selbst stehen drei Gästezimmer zur Verfügung. Weitere Unterkünfte finden Sie in der unmittelbaren Umgebung. Für Unterkunft und Verpflegung wenden Sie sich bitte an Christa Trobisch. \nTeilnahmebedingungen\nDeine Teilnahme ist nur mit vorheriger Anmeldung möglich\, da es eine begrenzte Anzahl von Plätzen gibt – auch für den Abendvortrag. Anmeldung bitte schriftlich per Email. \nDer Workshop erhebt keinen Anspruch auf Psycho- oder ärztliche Therapie. Die Teilnahme erfolgt auf eigene Verantwortung. Die Veranstalterin übernimmt keinerlei Haftung. \nKursleiterin:\nIm Jahr 2009 habe ich\, Minka Hauschild von Tsültrim Allione die Befugnis erhalten\, dieses Wochenende Seminar durchzuführen um Menschen in diesen 5 Schritte Prozess einzuführen.
URL:https://www.taramandala-sangha.de/veranstaltung/den-daemonen-nahrung-geben-wochenende-mit-offenem-abendvortrag/
CATEGORIES:Den Dämonen Nahrung geben
END:VEVENT
BEGIN:VEVENT
DTSTART;VALUE=DATE:20230120
DTEND;VALUE=DATE:20230123
DTSTAMP:20260424T125413
CREATED:20221020T100038Z
LAST-MODIFIED:20221022T094035Z
UID:10000445-1674172800-1674431999@www.taramandala-sangha.de
SUMMARY:"Den Dämonen Nahrung geben" mit Minka Hauschild
DESCRIPTION:Wochenendseminar mit offenem Abendvortrag 20.1. – 22.1.2023\n\n\nLive in Horgenzell- Hasenweiler\n\n\n\n\n\n\n\n\n\n\n\n\n\n\n\nDämonen – das sind unsere Verwirrungen und Ängste\, Minderwertigkeiten und Projektionen. Es sind Krankheiten und schlechte Angewohnheiten\, im Umgang mit uns selbst und anderen. Sie hindern uns oft\, ohne erkennbaren Grund\, daran\, ein leichtes und frisches Leben zu führen. Sie nehmen unseren Mut\, und das Vertrauen.\nLama Tsültrim Allione hat mit dem Prozess „Den Dämonen Nahrung geben“ 5 Schritte entwickelt um unsere Hindernismacher zu transformieren. \nDabei wenden wir uns den Dämonen zu und schauen was Sie eigentlich brauchen\, anstatt ihrer dringend und schnell ledig werden zu wollen. Auf diese Weise können die Dämonen in eine Weisheits Energie verwandelt werden\, die uns hilft und nährt.\nDiese Methode entstammt der alten tibetischen „Chöd“ Praxis von der tantrischen Yogini Machig Labdrön aus dem 11. Jahrhundert. Sie ist mit westlich psychologischen Verständnis für Menschen gedacht die einen gangbaren Weg für Ihren Alltag suchen\, um mit den eigenen Schatten in einem transformativen Prozess zu sein. \n  \nDas Buch zu dieser Methode: \nTsültrim Allione: “Den Dämonen Nahrung geben” \nBuddhistische Techniken zur Konflikt Lösung \n\n\n\n\n\n\n\n\nInformation\, Anmeldung\, Kosten\n\n\nKosten: Nur Abendvortrag mit Übung: 15\,- € \nSeminar: (inclusive Abendvortrag): 180\,- € / 160\,- € ermäßigt \n  \nOrganisation\, Anmeldung und Veranstaltungsort: \nImpuls & Continuum \nGina Gohl\, Ibach 2\, 88263 Horgenzell-Hasenweiler \nTelefon: +49 (0)7503 – 9313100 \nEmail: gina-gohl@web.de \nSeminarzeiten: Freitag 20.01.2023 Abendvortrag und Übung 19:00 Uhr – 21:00 Uhr \nSa. 21.01.2023 von 10.00 Uhr – 18.00 Uhr\, So. 22.01.2023 von 10:00 Uhr – 15:00 Uhr \n  \nTeilnahmebedingungen \nDeine Teilnahme ist nur mit vorheriger Anmeldung möglich\, da es eine begrenzte Anzahl von Plätzen gibt – auch für den Abendvortrag. Anmeldung bitte schriftlich per Email\, sie erhalten eine Anmeldebestätigung mit weiteren Informationen zum Ablauf\, Unterkunft\, Verpflegung und Anreise. Anreise per Bahn ist über Bahnhof Ravensburg und Bus bis Hasenweiler. Bitte MFG erfragen.
URL:https://www.taramandala-sangha.de/veranstaltung/minka-hauschild-den-daemonen-nahrung-geben/
LOCATION:Impuls & Continuum\, Ibach 2\, Horgenzell\, 88263\, Deutschland
CATEGORIES:Den Dämonen Nahrung geben
GEO:47.8171542;9.4871632
X-APPLE-STRUCTURED-LOCATION;VALUE=URI;X-ADDRESS=Impuls & Continuum Ibach 2 Horgenzell 88263 Deutschland;X-APPLE-RADIUS=500;X-TITLE=Ibach 2:geo:9.4871632,47.8171542
END:VEVENT
BEGIN:VEVENT
DTSTART;TZID=Europe/Berlin:20210322T190000
DTEND;TZID=Europe/Berlin:20210322T203000
DTSTAMP:20260424T125413
CREATED:20210222T164318Z
LAST-MODIFIED:20210222T164318Z
UID:10000437-1616439600-1616445000@www.taramandala-sangha.de
SUMMARY:Online – Den Dämonen Nahrung geben mit Minka Hauschild
DESCRIPTION:Den Dämonen Nahrung geben\nOnline Kurs über 4 Wochen\, jeweils Montag von 19.00 – 20.30 am: 1.3. / 8.3. / 15.3. / 22.3. 2021\n  \nDämonen – das sind unsere Verwirrungen und Ängste\, Minderwertigkeiten und Projektionen. Es sind Krankheiten und schlechte Angewohnheiten\, im Umgang mit uns selbst und Anderen. Sie hindern uns oft\, ohne erkennbaren Grund\, daran\, ein leichtes und frisches Leben zu führen. Sie nehmen unseren Mut\, und das Vertrauen. Lama Tsültrim Allione hat mit dem Prozess „Den Dämonen Nahrung geben“ 5 Schritte entwickelt\, um unsere Hindernismacher zu transformieren.\nDabei wenden wir uns den Dämonen zu und schauen was Sie eigentlich brauchen\, anstatt ihrer dringend und schnell ledig werden zu wollen. Auf diese Weise können die Dämonen in eine Weisheitsenergie verwandelt werden\, die uns hilft und nährt. Diese Methode entstammt der alten tibetischen „Chöd“ Praxis von der tantrischen Yogini Machig Labdrön aus dem 11. Jahrhundert. Sie ist mit westlich-psychologischen Verständnis für Menschen gedacht die einen gangbaren Weg für Ihren Alltag suchen\, um mit den eigenen Schatten in einem transformativen Prozess zu sein. \nDas Buch zu dieser Methode: Tsültrim Allione\, Den Dämonen Nahrung gebe; Buddhistische Techniken zur Konfliktlösung \nAn jedem Montag werde ich ein Thema vorstellen\, die Teilnehmer durch eine Dämonen Praxis hindurch leiten und Fragen beantworten\, soweit möglich. \n1.3.  Der Hintergrund und die Struktur dieser Methode\n8.3.  Verschiedene Arten von Dämonen und Verbündeten\n15.3. Kreativ mit der Methode im Alltag arbeiten\n22.3.  Mit dem Verbündeten verbunden sein \nAn diesen 4 Terminen jeweils Montag von 19.00 – 20.30 werden Sie mit diesem 5 Schritte Prozess so vertraut\, dass Sie ihn für sich selbst anwenden können.\nDie Sessions werden aufgezeichnet und können hinterher für die Teilnehmer abgerufen werden. \nKosten: 25\,- € pro Termin\, alle 4 Termine 90\,- €\nSie müssen nicht alle Termine buchen\, sollten aber von Anfang an dabei sein\, da die Termine aufeinander aufbauen. \nInformation und Anmeldung\nE-Mail: Minka@Minka-Hauschild.de\nMobil: 0174 622 21 45\nHomepage: www.Minka-Hauschild.de
URL:https://www.taramandala-sangha.de/veranstaltung/online-den-daemonen-nahrung-geben-mit-minka-hauschild/2021-03-22/
LOCATION:Online
GEO:37.09024;-95.712891
END:VEVENT
BEGIN:VEVENT
DTSTART;TZID=Europe/Berlin:20210315T190000
DTEND;TZID=Europe/Berlin:20210315T203000
DTSTAMP:20260424T125413
CREATED:20210222T164318Z
LAST-MODIFIED:20210222T164318Z
UID:10000436-1615834800-1615840200@www.taramandala-sangha.de
SUMMARY:Online – Den Dämonen Nahrung geben mit Minka Hauschild
DESCRIPTION:Den Dämonen Nahrung geben\nOnline Kurs über 4 Wochen\, jeweils Montag von 19.00 – 20.30 am: 1.3. / 8.3. / 15.3. / 22.3. 2021\n  \nDämonen – das sind unsere Verwirrungen und Ängste\, Minderwertigkeiten und Projektionen. Es sind Krankheiten und schlechte Angewohnheiten\, im Umgang mit uns selbst und Anderen. Sie hindern uns oft\, ohne erkennbaren Grund\, daran\, ein leichtes und frisches Leben zu führen. Sie nehmen unseren Mut\, und das Vertrauen. Lama Tsültrim Allione hat mit dem Prozess „Den Dämonen Nahrung geben“ 5 Schritte entwickelt\, um unsere Hindernismacher zu transformieren.\nDabei wenden wir uns den Dämonen zu und schauen was Sie eigentlich brauchen\, anstatt ihrer dringend und schnell ledig werden zu wollen. Auf diese Weise können die Dämonen in eine Weisheitsenergie verwandelt werden\, die uns hilft und nährt. Diese Methode entstammt der alten tibetischen „Chöd“ Praxis von der tantrischen Yogini Machig Labdrön aus dem 11. Jahrhundert. Sie ist mit westlich-psychologischen Verständnis für Menschen gedacht die einen gangbaren Weg für Ihren Alltag suchen\, um mit den eigenen Schatten in einem transformativen Prozess zu sein. \nDas Buch zu dieser Methode: Tsültrim Allione\, Den Dämonen Nahrung gebe; Buddhistische Techniken zur Konfliktlösung \nAn jedem Montag werde ich ein Thema vorstellen\, die Teilnehmer durch eine Dämonen Praxis hindurch leiten und Fragen beantworten\, soweit möglich. \n1.3.  Der Hintergrund und die Struktur dieser Methode\n8.3.  Verschiedene Arten von Dämonen und Verbündeten\n15.3. Kreativ mit der Methode im Alltag arbeiten\n22.3.  Mit dem Verbündeten verbunden sein \nAn diesen 4 Terminen jeweils Montag von 19.00 – 20.30 werden Sie mit diesem 5 Schritte Prozess so vertraut\, dass Sie ihn für sich selbst anwenden können.\nDie Sessions werden aufgezeichnet und können hinterher für die Teilnehmer abgerufen werden. \nKosten: 25\,- € pro Termin\, alle 4 Termine 90\,- €\nSie müssen nicht alle Termine buchen\, sollten aber von Anfang an dabei sein\, da die Termine aufeinander aufbauen. \nInformation und Anmeldung\nE-Mail: Minka@Minka-Hauschild.de\nMobil: 0174 622 21 45\nHomepage: www.Minka-Hauschild.de
URL:https://www.taramandala-sangha.de/veranstaltung/online-den-daemonen-nahrung-geben-mit-minka-hauschild/2021-03-15/
LOCATION:Online
GEO:37.09024;-95.712891
END:VEVENT
BEGIN:VEVENT
DTSTART;TZID=Europe/Berlin:20210308T190000
DTEND;TZID=Europe/Berlin:20210308T203000
DTSTAMP:20260424T125413
CREATED:20210222T164318Z
LAST-MODIFIED:20210222T164318Z
UID:10000435-1615230000-1615235400@www.taramandala-sangha.de
SUMMARY:Online – Den Dämonen Nahrung geben mit Minka Hauschild
DESCRIPTION:Den Dämonen Nahrung geben\nOnline Kurs über 4 Wochen\, jeweils Montag von 19.00 – 20.30 am: 1.3. / 8.3. / 15.3. / 22.3. 2021\n  \nDämonen – das sind unsere Verwirrungen und Ängste\, Minderwertigkeiten und Projektionen. Es sind Krankheiten und schlechte Angewohnheiten\, im Umgang mit uns selbst und Anderen. Sie hindern uns oft\, ohne erkennbaren Grund\, daran\, ein leichtes und frisches Leben zu führen. Sie nehmen unseren Mut\, und das Vertrauen. Lama Tsültrim Allione hat mit dem Prozess „Den Dämonen Nahrung geben“ 5 Schritte entwickelt\, um unsere Hindernismacher zu transformieren.\nDabei wenden wir uns den Dämonen zu und schauen was Sie eigentlich brauchen\, anstatt ihrer dringend und schnell ledig werden zu wollen. Auf diese Weise können die Dämonen in eine Weisheitsenergie verwandelt werden\, die uns hilft und nährt. Diese Methode entstammt der alten tibetischen „Chöd“ Praxis von der tantrischen Yogini Machig Labdrön aus dem 11. Jahrhundert. Sie ist mit westlich-psychologischen Verständnis für Menschen gedacht die einen gangbaren Weg für Ihren Alltag suchen\, um mit den eigenen Schatten in einem transformativen Prozess zu sein. \nDas Buch zu dieser Methode: Tsültrim Allione\, Den Dämonen Nahrung gebe; Buddhistische Techniken zur Konfliktlösung \nAn jedem Montag werde ich ein Thema vorstellen\, die Teilnehmer durch eine Dämonen Praxis hindurch leiten und Fragen beantworten\, soweit möglich. \n1.3.  Der Hintergrund und die Struktur dieser Methode\n8.3.  Verschiedene Arten von Dämonen und Verbündeten\n15.3. Kreativ mit der Methode im Alltag arbeiten\n22.3.  Mit dem Verbündeten verbunden sein \nAn diesen 4 Terminen jeweils Montag von 19.00 – 20.30 werden Sie mit diesem 5 Schritte Prozess so vertraut\, dass Sie ihn für sich selbst anwenden können.\nDie Sessions werden aufgezeichnet und können hinterher für die Teilnehmer abgerufen werden. \nKosten: 25\,- € pro Termin\, alle 4 Termine 90\,- €\nSie müssen nicht alle Termine buchen\, sollten aber von Anfang an dabei sein\, da die Termine aufeinander aufbauen. \nInformation und Anmeldung\nE-Mail: Minka@Minka-Hauschild.de\nMobil: 0174 622 21 45\nHomepage: www.Minka-Hauschild.de
URL:https://www.taramandala-sangha.de/veranstaltung/online-den-daemonen-nahrung-geben-mit-minka-hauschild/2021-03-08/
LOCATION:Online
GEO:37.09024;-95.712891
END:VEVENT
BEGIN:VEVENT
DTSTART;TZID=Europe/Berlin:20210301T190000
DTEND;TZID=Europe/Berlin:20210301T203000
DTSTAMP:20260424T125413
CREATED:20210222T164318Z
LAST-MODIFIED:20210222T164318Z
UID:10000434-1614625200-1614630600@www.taramandala-sangha.de
SUMMARY:Online – Den Dämonen Nahrung geben mit Minka Hauschild
DESCRIPTION:Den Dämonen Nahrung geben\nOnline Kurs über 4 Wochen\, jeweils Montag von 19.00 – 20.30 am: 1.3. / 8.3. / 15.3. / 22.3. 2021\n  \nDämonen – das sind unsere Verwirrungen und Ängste\, Minderwertigkeiten und Projektionen. Es sind Krankheiten und schlechte Angewohnheiten\, im Umgang mit uns selbst und Anderen. Sie hindern uns oft\, ohne erkennbaren Grund\, daran\, ein leichtes und frisches Leben zu führen. Sie nehmen unseren Mut\, und das Vertrauen. Lama Tsültrim Allione hat mit dem Prozess „Den Dämonen Nahrung geben“ 5 Schritte entwickelt\, um unsere Hindernismacher zu transformieren.\nDabei wenden wir uns den Dämonen zu und schauen was Sie eigentlich brauchen\, anstatt ihrer dringend und schnell ledig werden zu wollen. Auf diese Weise können die Dämonen in eine Weisheitsenergie verwandelt werden\, die uns hilft und nährt. Diese Methode entstammt der alten tibetischen „Chöd“ Praxis von der tantrischen Yogini Machig Labdrön aus dem 11. Jahrhundert. Sie ist mit westlich-psychologischen Verständnis für Menschen gedacht die einen gangbaren Weg für Ihren Alltag suchen\, um mit den eigenen Schatten in einem transformativen Prozess zu sein. \nDas Buch zu dieser Methode: Tsültrim Allione\, Den Dämonen Nahrung gebe; Buddhistische Techniken zur Konfliktlösung \nAn jedem Montag werde ich ein Thema vorstellen\, die Teilnehmer durch eine Dämonen Praxis hindurch leiten und Fragen beantworten\, soweit möglich. \n1.3.  Der Hintergrund und die Struktur dieser Methode\n8.3.  Verschiedene Arten von Dämonen und Verbündeten\n15.3. Kreativ mit der Methode im Alltag arbeiten\n22.3.  Mit dem Verbündeten verbunden sein \nAn diesen 4 Terminen jeweils Montag von 19.00 – 20.30 werden Sie mit diesem 5 Schritte Prozess so vertraut\, dass Sie ihn für sich selbst anwenden können.\nDie Sessions werden aufgezeichnet und können hinterher für die Teilnehmer abgerufen werden. \nKosten: 25\,- € pro Termin\, alle 4 Termine 90\,- €\nSie müssen nicht alle Termine buchen\, sollten aber von Anfang an dabei sein\, da die Termine aufeinander aufbauen. \nInformation und Anmeldung\nE-Mail: Minka@Minka-Hauschild.de\nMobil: 0174 622 21 45\nHomepage: www.Minka-Hauschild.de
URL:https://www.taramandala-sangha.de/veranstaltung/online-den-daemonen-nahrung-geben-mit-minka-hauschild/2021-03-01/
LOCATION:Online
GEO:37.09024;-95.712891
END:VEVENT
END:VCALENDAR