BEGIN:VCALENDAR
VERSION:2.0
PRODID:-//Tara Mandala-Sangha DE - ECPv6.15.18//NONSGML v1.0//EN
CALSCALE:GREGORIAN
METHOD:PUBLISH
X-ORIGINAL-URL:https://www.taramandala-sangha.de
X-WR-CALDESC:Veranstaltungen für Tara Mandala-Sangha DE
REFRESH-INTERVAL;VALUE=DURATION:PT1H
X-Robots-Tag:noindex
X-PUBLISHED-TTL:PT1H
BEGIN:VTIMEZONE
TZID:Europe/Berlin
BEGIN:DAYLIGHT
TZOFFSETFROM:+0100
TZOFFSETTO:+0200
TZNAME:CEST
DTSTART:20250330T010000
END:DAYLIGHT
BEGIN:STANDARD
TZOFFSETFROM:+0200
TZOFFSETTO:+0100
TZNAME:CET
DTSTART:20251026T010000
END:STANDARD
BEGIN:DAYLIGHT
TZOFFSETFROM:+0100
TZOFFSETTO:+0200
TZNAME:CEST
DTSTART:20260329T010000
END:DAYLIGHT
BEGIN:STANDARD
TZOFFSETFROM:+0200
TZOFFSETTO:+0100
TZNAME:CET
DTSTART:20261025T010000
END:STANDARD
BEGIN:DAYLIGHT
TZOFFSETFROM:+0100
TZOFFSETTO:+0200
TZNAME:CEST
DTSTART:20270328T010000
END:DAYLIGHT
BEGIN:STANDARD
TZOFFSETFROM:+0200
TZOFFSETTO:+0100
TZNAME:CET
DTSTART:20271031T010000
END:STANDARD
END:VTIMEZONE
BEGIN:VEVENT
DTSTART;VALUE=DATE:20260501
DTEND;VALUE=DATE:20260510
DTSTAMP:20260422T153524
CREATED:20260314T103947Z
LAST-MODIFIED:20260314T104250Z
UID:10001403-1777593600-1778371199@www.taramandala-sangha.de
SUMMARY:Grüne Tara Praxis-Retreat in Steinen
DESCRIPTION:Grüne Tara Praxis-Retreat vom 1. – 9. Mai 2026 im Synergeist-Institut\, 79585 Steinen\nBitte anmelden über: https://synergeist.org/ninja-forms/6mlog \nVoraussetzung:\nEs sind alle eingeladen\, die von Lama Tsültrim\, Tulku Ösel oder einem der anderen autorisierten LehrerInnen\, die die Grüne Tara aus der Adzom-Drukpa-Linie gelehrt haben\, eine Einführung erhalten haben. \nOrt:\nSynergeist-Institut\, (bei Petra Sloan)\, 79585 Steinen\, Reifhalde 15 \nZeit und Ablauf:\nDas Retreat beginnt Freitagabend\, 1. Mai\, Ankunft ab 17 Uhr\, Beginn 19 Uhr mit einem Tsog.\nDas Retreat endet Samstagvormittag 10 Uhr.\nEs ist möglich\, zur Integration bis Sonntagvormittag zu bleiben (bitte in der Anmeldung angeben). \nDie Tage sind in 4 Praxiseinheiten eingeteilt. Es gibt ein Meditationshaus im Garten und einen Meditationsraum im Haus. Bei gutem Wetter sitzen wir in individuelle Praxiseinheiten draussen\, wo sich jede/r einen Platz im Garten oder auf der Wiese oberhalb des Hauses suchen kann. Dafür bitte entsprechende Unterlagen mitbringen.\nBaumwolldecken und Sitzkissen sind genug vorhanden. \nUnterkunft:\nEs ist für insgesamt 9 Personen möglich im Haus in 2- oder 3-Bett-Zimmern oder in zwei einfachen Einzelzimmern im Keller zu übernachten. Darüberhinaus kann im Gruppenraum auf Matratzen oder im Garten in einem selbst mitgebrachten Zelt (begrenzt auf 3 mögliche Plätze fürs Zelt) übernachtet werden.\nIm Ort Steinen gibt es die Wiesental-Lounge und das Hotel Ochsen\, die gut zu Fuß erreichbar sind. Im nahegelegenen Nachbarort Höllstein gibt es Ferienwohnungen und Hotels \nVerpflegung:\nWir werden uns größtenteils selbst versorgen\, d.h. vegetarisches Essen wird vorher von Petra eingekauft\, sowie Tees\, Kaffee und kalte Getränke. Bitte Lebensmittelunverträglichkeiten und besondere Ernährung auf dem Anmeldebogen angeben. \nKosten:\n– Verpflegung 35\,- EUR pro Tag\n– Übernachtung im Haus: 15\,- EUR in einem Zimmer oder 10\,- EUR im Gruppenraum\, Meditationshaus oder im Zelt\nDie Kosten sind knapp berechnet\, um möglichst allen\, unabhängig von finanziellen Mitteln\, die Teilnahme zu ermöglichen. Diejenigen\, für die es finanziell möglich ist\, sind eingeladen\, darüberhinaus noch ein Dana fürs Haus zu geben. \nEs kann auch der Verein Tara Mandala Deutschland e.V. um finanzielle Unterstützung gebeten werden über diese Mailadresse: retreatsponsoring@taramandala-sangha.de \nPraxisanleiterinnen sind Gudrun Binder und Petra Sloan. \nTulku Ösel Dorje wird einmal über Zoom dazukommen und Fragen beantworten. \nFragen zum Retreat bitte telefonisch stellen: 07627-9246390 (Petra Sloan)
URL:https://www.taramandala-sangha.de/veranstaltung/gruene-tara-praxis-retreat-in-steinen/
LOCATION:Synergeist-Institut\, Reifhalde 15\, Steinen\, 79585\, Deutschland
CATEGORIES:Retreat
END:VEVENT
END:VCALENDAR