BEGIN:VCALENDAR
VERSION:2.0
PRODID:-//Tara Mandala-Sangha DE - ECPv6.15.18//NONSGML v1.0//EN
CALSCALE:GREGORIAN
METHOD:PUBLISH
X-ORIGINAL-URL:https://www.taramandala-sangha.de
X-WR-CALDESC:Veranstaltungen für Tara Mandala-Sangha DE
REFRESH-INTERVAL;VALUE=DURATION:PT1H
X-Robots-Tag:noindex
X-PUBLISHED-TTL:PT1H
BEGIN:VTIMEZONE
TZID:Europe/Berlin
BEGIN:DAYLIGHT
TZOFFSETFROM:+0100
TZOFFSETTO:+0200
TZNAME:CEST
DTSTART:20250330T010000
END:DAYLIGHT
BEGIN:STANDARD
TZOFFSETFROM:+0200
TZOFFSETTO:+0100
TZNAME:CET
DTSTART:20251026T010000
END:STANDARD
BEGIN:DAYLIGHT
TZOFFSETFROM:+0100
TZOFFSETTO:+0200
TZNAME:CEST
DTSTART:20260329T010000
END:DAYLIGHT
BEGIN:STANDARD
TZOFFSETFROM:+0200
TZOFFSETTO:+0100
TZNAME:CET
DTSTART:20261025T010000
END:STANDARD
BEGIN:DAYLIGHT
TZOFFSETFROM:+0100
TZOFFSETTO:+0200
TZNAME:CEST
DTSTART:20270328T010000
END:DAYLIGHT
BEGIN:STANDARD
TZOFFSETFROM:+0200
TZOFFSETTO:+0100
TZNAME:CET
DTSTART:20271031T010000
END:STANDARD
END:VTIMEZONE
BEGIN:VEVENT
DTSTART;TZID=Europe/Berlin:20260608T190000
DTEND;TZID=Europe/Berlin:20260608T210000
DTSTAMP:20260424T125229
CREATED:20251209T144521Z
LAST-MODIFIED:20251209T161146Z
UID:10001384-1780945200-1780952400@www.taramandala-sangha.de
SUMMARY:2. Paramita Ethisches Verhalten Teil 2 mit Regina Bommer
DESCRIPTION:Die Paramitas als sechs Wege zur spirituellen Entfaltung\, die uns helfen\, ein erfülltes und mitfühlendes Leben zu führen.\n2. Paramita Ethisches Verhalten Teil 2 \nEin Angebot für alle im deutschsprachigen Raum\, angeleitet von einer der hiesigen Lehrerinnen. Fühle dich herzlich eingeladen zu diesem Abend. Das Interesse an Übung und Lehre von Lama Tsültrim Allione und Tara Mandala bringt uns zusammen. Es gibt keine Voraussetzungen – komm einfach dazu! \nInhalt: \n\nGemeinsame Meditation (verschiedene Übungen und Inhalte)\nVertiefung in ein Thema gemäss Ankündigung\nRaum für Austausch und Fragen\nKontakte knüpfen und Sangha erleben\n\nImmer am 2. Montag im Monat von 19-21 Uhr\nDana (freiwillige Herzensgabe) an die jeweilige Leiterin des Abends.\nNäheres dazu in der Einladungs-E-Mail. \nInteresse? Schreibe an online@taramandala-sangha.com
URL:https://www.taramandala-sangha.de/veranstaltung/1-paramita-grosszuegigkeit-teil-1-mit-lopoen-barbara-5/
LOCATION:Online
CATEGORIES:Sangha-Abend online
ORGANIZER;CN="Regina Bommer":MAILTO:schweiz@taramandala-sangha.de
GEO:37.09024;-95.712891
END:VEVENT
BEGIN:VEVENT
DTSTART;TZID=Europe/Berlin:20260711T130000
DTEND;TZID=Europe/Berlin:20260711T173000
DTSTAMP:20260424T125229
CREATED:20260303T090732Z
LAST-MODIFIED:20260304T101703Z
UID:10001401-1783774800-1783791000@www.taramandala-sangha.de
SUMMARY:„Den Dämonen Nahrung geben” Einführungsstag in Winterthur
DESCRIPTION:  \n„Den Dämonen Nahrung geben” mit Regina Bommer und Christine Albrecht\n \nEine hilfreiche Methode\, um mit Mitgefühl und Verständnis die dunklen Seite unserer Seele zu heilen. \nWir alle wünschen uns\, glücklich zu sein – und erleben doch im Alltag immer wieder innere Hürden: Angst\, Druck\, Selbstzweifel oder alte Muster.\n«Den Dämonen Nahrung geben» ist eine jahrhundertealte Praxis aus dem tibetischen Chöd\, die Lama Tsültrim Allione als Fünf-Schritte-Prozess zugänglich gemacht hat. Statt innere Konflikte zu bekämpfen oder zu verdrängen\, ermöglicht sie eine achtsame Begegnung mit dem eigenen Problemen: verstehen\, integrieren – und die gebundene Weisheitsenergie in Mitgefühl freisetzen.\nDiese Einführung vermittelt Hintergrund und Ablauf der Methode und zeigt\, wie sie hilfreich und praktisch wirkt. \nDas Buch zu der Übung: Den Dämonen Nahrung geben – Buddhistische Techniken zur Konfliktlösung\, Tsültrim Allione. \nVorkenntnisse: Keine Vorkenntnisse in Buddhismus und Meditation erforderlich. Alle sind herzlich willkommen! \nZeit: 11. Jul i 2026 – 13:00 bis 17: 30 Uhr\nOrt: Yoga-Academy Winterthur – Dialogplatz 10\nwww.yoga-academy-winterthur.ch \nAnmeldung: zurich@taramandala.org\nKosten: Fr. 55\,-\n \nSeminarleiterinnen: \n \n  \nRegina Bommer Studiert und praktiziert seit 30 Jahren Meditation. Ist seit 2013 Schülerin von Lama Tsültrim Allione (seit 2017 in der Ausbildung zur Lehrerin für Tara Mandala\, seit 2015 Lehrerin für Dämonennähren). Sie leitet die Schweizer Tara Mandala Sangha. \n  \nChristine Albrecht (Tsomo Choenyid Lobsang) ist Paartherapeutin/Coach und Buddhistische Lehrerin (seit 2006 Ausbildnerin für Tibetisches Heil-Yoga durch Tulku Lobsang; Buddhistische Psychologie durch Tenzin Kalden; FYD durch Lama Tsültrim Allione)\, Meditations-Lehrerin und Buchautorin.
URL:https://www.taramandala-sangha.de/veranstaltung/den-daemonen-nahrung-geben-einfuehrungsstag-in-winterthur/
LOCATION:Yoga-Academy Winterthur\, Dialogplatz 10\, Winterthur\, Schweiz
CATEGORIES:Den Dämonen Nahrung geben
ORGANIZER;CN="Regina Bommer":MAILTO:schweiz@taramandala-sangha.de
END:VEVENT
BEGIN:VEVENT
DTSTART;TZID=Europe/Berlin:20260713T190000
DTEND;TZID=Europe/Berlin:20260713T210000
DTSTAMP:20260424T125229
CREATED:20251209T144826Z
LAST-MODIFIED:20251209T161351Z
UID:10001385-1783969200-1783976400@www.taramandala-sangha.de
SUMMARY:3. Paramita Geduld Teil 1 mit Regina Bommer
DESCRIPTION:Die Paramitas als sechs Wege zur spirituellen Entfaltung\, die uns helfen\, ein erfülltes und mitfühlendes Leben zu führen.\n3. Paramita Geduld Teil 1 \nEin Angebot für alle im deutschsprachigen Raum\, angeleitet von einer der hiesigen Lehrerinnen. Fühle dich herzlich eingeladen zu diesem Abend. Das Interesse an Übung und Lehre von Lama Tsültrim Allione und Tara Mandala bringt uns zusammen. Es gibt keine Voraussetzungen – komm einfach dazu! \nInhalt: \n\nGemeinsame Meditation (verschiedene Übungen und Inhalte)\nVertiefung in ein Thema gemäss Ankündigung\nRaum für Austausch und Fragen\nKontakte knüpfen und Sangha erleben\n\nImmer am 2. Montag im Monat von 19-21 Uhr\nDana (freiwillige Herzensgabe) an die jeweilige Leiterin des Abends.\nNäheres dazu in der Einladungs-E-Mail. \nInteresse? Schreibe an online@taramandala-sangha.com
URL:https://www.taramandala-sangha.de/veranstaltung/1-paramita-grosszuegigkeit-teil-1-mit-lopoen-barbara-6/
LOCATION:Online
CATEGORIES:Sangha-Abend online
ORGANIZER;CN="Regina Bommer":MAILTO:schweiz@taramandala-sangha.de
GEO:37.09024;-95.712891
END:VEVENT
END:VCALENDAR