BEGIN:VCALENDAR
VERSION:2.0
PRODID:-//Tara Mandala-Sangha DE - ECPv6.15.18//NONSGML v1.0//EN
CALSCALE:GREGORIAN
METHOD:PUBLISH
X-ORIGINAL-URL:https://www.taramandala-sangha.de
X-WR-CALDESC:Veranstaltungen für Tara Mandala-Sangha DE
REFRESH-INTERVAL;VALUE=DURATION:PT1H
X-Robots-Tag:noindex
X-PUBLISHED-TTL:PT1H
BEGIN:VTIMEZONE
TZID:Europe/Berlin
BEGIN:DAYLIGHT
TZOFFSETFROM:+0100
TZOFFSETTO:+0200
TZNAME:CEST
DTSTART:20250330T010000
END:DAYLIGHT
BEGIN:STANDARD
TZOFFSETFROM:+0200
TZOFFSETTO:+0100
TZNAME:CET
DTSTART:20251026T010000
END:STANDARD
BEGIN:DAYLIGHT
TZOFFSETFROM:+0100
TZOFFSETTO:+0200
TZNAME:CEST
DTSTART:20260329T010000
END:DAYLIGHT
BEGIN:STANDARD
TZOFFSETFROM:+0200
TZOFFSETTO:+0100
TZNAME:CET
DTSTART:20261025T010000
END:STANDARD
BEGIN:DAYLIGHT
TZOFFSETFROM:+0100
TZOFFSETTO:+0200
TZNAME:CEST
DTSTART:20270328T010000
END:DAYLIGHT
BEGIN:STANDARD
TZOFFSETFROM:+0200
TZOFFSETTO:+0100
TZNAME:CET
DTSTART:20271031T010000
END:STANDARD
END:VTIMEZONE
BEGIN:VEVENT
DTSTART;TZID=Europe/Berlin:20260909T193000
DTEND;TZID=Europe/Berlin:20260913T153000
DTSTAMP:20260422T182955
CREATED:20260316T095355Z
LAST-MODIFIED:20260324T094511Z
UID:10001404-1788982200-1789313400@www.taramandala-sangha.de
SUMMARY:Lama Tsültrim Allione — Machig Labdröns große Sammlung von Unterweisungen
DESCRIPTION:(see english below)\nIn diesem Retreat steht ein Grundlagentext der Chöd-Linie im Zentrum: die Kernunterweisungen (Pith Instructions) des tiefgründigen Prajñāpāramitā Chöd von Machig Labdrön. Lama Tsültrim Allione führt anhand des Quelltextes in eine direkte\, erfahrungsbezogene Sicht auf den Geist ein. Was geschieht\, wenn Bewusstsein an Erscheinungen festhält? Wie entstehen Angst\, Verwirrung und innere Enge – und wie lösen sich diese Muster auf\, wenn sie erkannt werden? \nChöd wird oft als Praxis des Durchtrennens beschrieben\, nicht als Kampf gegen «Dämonen»\, sondern als Schulung der Achtsamkeit. Der Text spricht klar aus\, worum es geht: Die Wurzel aller Dämonen ist der eigene Geist. Damit sind innere Fixierungen\, Projektionen und Gewohnheitsmuster gemeint\, die Freiheit und Mitgefühl verdecken. Genau hier setzt die Praxis an. \nDas erwartet dich\nIm Retreat wechseln sich Unterweisungen aus dem Quelltext\, kurze Meditationseinheiten und offener Dialog ab. So entsteht ein gut nachvollziehbarer Rhythmus aus Hören\, Üben und Integration. Auch für Fragen und Austausch ist Raum\, damit die Lehren nicht Theorie bleiben\, sondern in der eigenen Erfahrung verankert werden. \nLama Tsültrim gelingt es mit Leichtigkeit\, sowohl Anfängern als auch erfahrenen Dharma-Praktizierenden die tiefste Weisheit zu vermitteln. Ihr Humor und ihre Ausstrahlung tragen dazu bei\, eine Atmosphäre «freudiger Achtsamkeit» zu schaffen\, die bleibende Einsichten ermöglicht. \nFür wen?\nOffen für alle. Der Kurs ist besonders geeignet\, wenn du die Natur-des-Geistes-Lehren kennenlernen oder vertiefen möchtest – mit oder ohne langjährige Praxis. \nKurssprache: Englisch\, mit deutscher Übersetzung. \nZeit und Ort: Mittwoch\, 9. September 2026\,  19:30 Uhr bis Sonntag\, 13. September 2026\,  15:00 Uhr\nLandguet Ried\, Center for mindful living 10 Hilfligweg Niederwangen bei Bern\, BE\, 3172 Switzerland \nAnmeldung: https://www.landguet.ch/de/events/tsultrim-allione-2026 \n  \n \nThis retreat focuses on a fundamental text of the Chöd lineage\, the Pith Instructions of Machig Labdrön’s Prajñāpāramitā Chöd\, which are its core teachings. Lama Tsultrim Allione will use the source text to introduce a direct\, experiential view of the mind. What happens when consciousness clings to appearances? How do fear\, confusion\, and inner constriction arise\, and how do these patterns dissolve when recognized? \nChöd is often described as a practice of cutting through — not as battling “demons\,” but as training in mindfulness. The text clearly states its purpose: the root of all demons is one’s own mind. This refers to inner fixations\, projections\, and habitual patterns that obscure freedom and compassion. This is exactly where the practice comes in. \nWhat to expect\nThe retreat alternates between teachings from the source text\, short meditation sessions\, and open dialogue. This creates an easy-to-follow rhythm of listening\, practicing\, and integrating. There is also space for questions and discussion so that the teachings are anchored in one’s own experience and do not remain theory. \nLama Tsültrim effortlessly conveys the deepest wisdom to beginners and experienced Dharma practitioners alike. Her humor and charisma contribute to creating an atmosphere of “joyful mindfulness” that enables lasting insights. \nWho is it for?\nIt is open to all. It is particularly suitable if you want to learn about or deepen your understanding of nature-of-mind teachings\, whether you have many years of practice or none. \nCourse language: English\, with German translation. \n\nTime and Place: September 9 @ 19:30 – September 13 @ 15:30  CES\nLandguet Ried\, Center for mindful living 10 Hilfligweg Niederwangen bei Bern\, BE\, 3172 Switzerland \n\n\nRegistration: https://www.landguet.ch/de/events/tsultrim-allione-2026 \n 
URL:https://www.taramandala-sangha.de/veranstaltung/lama-tsueltrim-allione-machig-labdroens-grosse-sammlung-von-unterweisungen/
LOCATION:Landguet Ried bei Bern\, Hilfligweg 10\, Niederwangen\, Bern\, 3172\, Schweiz
CATEGORIES:Retreat
END:VEVENT
END:VCALENDAR