BEGIN:VCALENDAR
VERSION:2.0
PRODID:-//Tara Mandala-Sangha DE - ECPv6.15.18//NONSGML v1.0//EN
CALSCALE:GREGORIAN
METHOD:PUBLISH
X-ORIGINAL-URL:https://www.taramandala-sangha.de
X-WR-CALDESC:Veranstaltungen für Tara Mandala-Sangha DE
REFRESH-INTERVAL;VALUE=DURATION:PT1H
X-Robots-Tag:noindex
X-PUBLISHED-TTL:PT1H
BEGIN:VTIMEZONE
TZID:Europe/Berlin
BEGIN:DAYLIGHT
TZOFFSETFROM:+0100
TZOFFSETTO:+0200
TZNAME:CEST
DTSTART:20220327T010000
END:DAYLIGHT
BEGIN:STANDARD
TZOFFSETFROM:+0200
TZOFFSETTO:+0100
TZNAME:CET
DTSTART:20221030T010000
END:STANDARD
BEGIN:DAYLIGHT
TZOFFSETFROM:+0100
TZOFFSETTO:+0200
TZNAME:CEST
DTSTART:20230326T010000
END:DAYLIGHT
BEGIN:STANDARD
TZOFFSETFROM:+0200
TZOFFSETTO:+0100
TZNAME:CET
DTSTART:20231029T010000
END:STANDARD
BEGIN:DAYLIGHT
TZOFFSETFROM:+0100
TZOFFSETTO:+0200
TZNAME:CEST
DTSTART:20240331T010000
END:DAYLIGHT
BEGIN:STANDARD
TZOFFSETFROM:+0200
TZOFFSETTO:+0100
TZNAME:CET
DTSTART:20241027T010000
END:STANDARD
END:VTIMEZONE
BEGIN:VEVENT
DTSTART;VALUE=DATE:20230729
DTEND;VALUE=DATE:20230730
DTSTAMP:20260422T212209
CREATED:20230102T095413Z
LAST-MODIFIED:20231105T171205Z
UID:10000468-1690588800-1690675199@www.taramandala-sangha.de
SUMMARY:Das Mandala der fünf Weisheits-Buddhas alltagsnah erfahren mit Dr. Barbara Staemmler
DESCRIPTION:Frieden in uns selbst und in der Welt zu finden\, ist in diesen unruhigen Zeiten oft nicht leicht. Durch die Beschäftigung und Arbeit mit einem Mandala können wir die Qualitäten entwickeln\, die wir brauchen\, um andere und uns selbst zu unterstützen.\nEin Mandala ist ein symmetrisches\, i.d.R. kreisförmiges Symbol des Universums\, das verwendet wird\, um tiefergehende Bedeutungen darzustellen und auf non-verbale Weise zu vermitteln. Die Symbolik spricht außerdem oft unbewusste\, hilfreiche Bereiche unserer Psyche an.\nIn unserer Würzburger Sangha werden wir uns daher beginnend in 2023 intensiv mit dem Mandala der fünf Weisheits-Buddhas beschäftigen. Diese Weisheits-Buddhas repräsentieren friedvolle erwachte Qualitäten. Sie helfen uns dabei\, schwierige Emotionen wie Nicht-Wissen-Wollen\, Nicht-Hinschauen\, Ärger\, Ablehnung und gieriges Haben-Wollen in die Weisheit der Buddhas zu transformieren.\nDoch was bedeutet das konkret in unserem Alltag\, wenn wir uns über den Nachbarn ärgern\, im Stress gefangen sind oder besorgt auf die Nachrichten aus aller Welt schauen? Mit dieser Frage werden wir uns intensiv auseinandersetzen. Dazu gibt es jeweils eine Einführung in die fünf unterschiedlichen Weisheits-Qualitäten dieser Buddhas. Außerdem werden wir uns mit unterschiedlichen Methoden und gegenseitigem Austausch möglichen Antworten annähern.\nDie Treffen finden online statt und sind offen für alle. Im Sommer werden wir uns zu einem Sangha-Tag live vor Ort in Würzburg treffen. Barbara Staemmler wird an diesem Tag die vollständige Meditations-Praxis lehren\, wie sie von Lama Tsültrim entwickelt wurde\, und die Übertragung dazu geben. Es ist sinnvoll\, möglichst alle Treffen live online zu besuchen. Es werden aber auch Aufzeichnungen zur Verfügung gestellt. Die Treffen finden auf Dana-Basis statt\, es gibt keine Kursgebühr. \nAnmeldung bitte an Heike Andrea Müller unter wuerzburg@taramandala-sangha.de
URL:https://www.taramandala-sangha.de/veranstaltung/das-mandala-der-fuenf-weisheits-buddhas-alltagsnah-erfahren-mit-dr-barbara-staemmler-3/
LOCATION:Praxis Florian Fath\, Hofmeierstraße 24\, Würzburg\, Bayern\, 97074
CATEGORIES:Den Dämonen Nahrung geben,Magyu,Sanghatreffen
GEO:49.7789064;9.9430822
X-APPLE-STRUCTURED-LOCATION;VALUE=URI;X-ADDRESS=Praxis Florian Fath Hofmeierstraße 24 Würzburg Bayern 97074;X-APPLE-RADIUS=500;X-TITLE=Hofmeierstraße 24:geo:9.9430822,49.7789064
END:VEVENT
END:VCALENDAR