BEGIN:VCALENDAR
VERSION:2.0
PRODID:-//Tara Mandala-Sangha DE - ECPv6.15.18//NONSGML v1.0//EN
CALSCALE:GREGORIAN
METHOD:PUBLISH
X-WR-CALNAME:Tara Mandala-Sangha DE
X-ORIGINAL-URL:https://www.taramandala-sangha.de
X-WR-CALDESC:Veranstaltungen für Tara Mandala-Sangha DE
REFRESH-INTERVAL;VALUE=DURATION:PT1H
X-Robots-Tag:noindex
X-PUBLISHED-TTL:PT1H
BEGIN:VTIMEZONE
TZID:Europe/Berlin
BEGIN:DAYLIGHT
TZOFFSETFROM:+0100
TZOFFSETTO:+0200
TZNAME:CEST
DTSTART:20230326T010000
END:DAYLIGHT
BEGIN:STANDARD
TZOFFSETFROM:+0200
TZOFFSETTO:+0100
TZNAME:CET
DTSTART:20231029T010000
END:STANDARD
BEGIN:DAYLIGHT
TZOFFSETFROM:+0100
TZOFFSETTO:+0200
TZNAME:CEST
DTSTART:20240331T010000
END:DAYLIGHT
BEGIN:STANDARD
TZOFFSETFROM:+0200
TZOFFSETTO:+0100
TZNAME:CET
DTSTART:20241027T010000
END:STANDARD
BEGIN:DAYLIGHT
TZOFFSETFROM:+0100
TZOFFSETTO:+0200
TZNAME:CEST
DTSTART:20250330T010000
END:DAYLIGHT
BEGIN:STANDARD
TZOFFSETFROM:+0200
TZOFFSETTO:+0100
TZNAME:CET
DTSTART:20251026T010000
END:STANDARD
END:VTIMEZONE
BEGIN:VEVENT
DTSTART;VALUE=DATE:20241005
DTEND;VALUE=DATE:20241007
DTSTAMP:20260424T153457
CREATED:20240210T185741Z
LAST-MODIFIED:20240309T084258Z
UID:10000892-1728086400-1728259199@www.taramandala-sangha.de
SUMMARY:Alte Weisheit zur Lösung innerer Konflikte - „Den Dämonen Nahrung geben“   Vortrag mit Übung Lama Tsültrim Allione
DESCRIPTION:  \n  \nAlte Weisheit zur Lösung innerer Konflikte – \n„Den Dämonen Nahrung geben“ \nVortrag mit Übung \nLama Tsültrim Allione \n  \n(Sonntag\, 06. Oktober Übungstag mit Dr. Barbara Staemmler im Buddhahaus München) \nWir freuen uns sehr auf die ganz besondere Gelegenheit\, Lama Tsültrim Allione persönlich zu erleben! \nSie stellt in der Nymphenburger Orangerie die Methode vor\, die sie entwickelt hat\, erklärt den Hintergrund aus dem tibetischen Buddhismus\, führt durch die Übung und steht für Fragen zur Verfügung. \n“Der Prozess des Nährens der eigenen Dämonen ist eine Methode\, um unsere Schattenanteile – statt sie zu unterdrücken – ins Bewusstsein zu bringen und zu den darin enthaltenen Schätzen Zugang zu finden. … Den Schatten ins Gewahrsein bringen verringert seine destruktive Kraft und befreit die Lebensenergie\, die darin gebunden war. Indem wir uns mit dem anfreunden\, was uns Angst macht\, finden wir unsere eigene innere Weisheit.“\nLama Tsültrim Allione \nDieser Vortrag mit Übung beinhaltet:\n• Inhalt und Hintergrund der Übung\n• eine vollständige Einführung\n• eine angeleitete Übung\n• Unterlagen dazu\n• die Möglichkeit\, Fragen zu stellen \nKursbeitrag: € 115\,- \nAlle Infos zum Kurs und Anmeldung beim: Buddhahaus München \n  \n \n  \n  \nDen Dämonen Nahrung geben – Übungstag am Sonntag\, 06. Oktober 2024 \n10:00-14:30 im Buddhahaus München \nals Folgetag zum Samstag mit Lama Tsültrim Allione \nmit Dr. Barbara Staemmler \n  \nAn diesem Tag im Buddhahaus München werden wir die Erfahrungen vom Tag zuvor vertiefen und alle noch offenen Fragen können besprochen werden. Wir können Schwierigkeiten mit der Methode ausräumen und wir werden den Prozess intensiv üben. \nVorzugsweise für die Teilnehmenden am Samstag\, auf den Bezug genommen wird. \nMit Dr. Barbara Staemmler\, langjährige Schülerin von Lama Tsültrim und Senior Teacher (Lopön) von Tara Mandala in Deutschland. Sie unterrichtet seit mehr als 15 Jahren das Nähren der eigenen Dämonen und hat zahlreiche Wochenenden im Buddhahaus München dazu gehalten. \nWeitere Info und Anmeldung beim Buddhahaus München: Buddhahaus München
URL:https://www.taramandala-sangha.de/veranstaltung/save-the-date-lama-tsueltrim-allione-den-daemonen-nahrung-geben/
LOCATION:Schloss Nymphenburg\, München\, 80638\, Deutschland
CATEGORIES:Den Dämonen Nahrung geben
END:VEVENT
END:VCALENDAR