BEGIN:VCALENDAR
VERSION:2.0
PRODID:-//Tara Mandala-Sangha DE - ECPv6.15.18//NONSGML v1.0//EN
CALSCALE:GREGORIAN
METHOD:PUBLISH
X-WR-CALNAME:Tara Mandala-Sangha DE
X-ORIGINAL-URL:https://www.taramandala-sangha.de
X-WR-CALDESC:Veranstaltungen für Tara Mandala-Sangha DE
REFRESH-INTERVAL;VALUE=DURATION:PT1H
X-Robots-Tag:noindex
X-PUBLISHED-TTL:PT1H
BEGIN:VTIMEZONE
TZID:Europe/Berlin
BEGIN:DAYLIGHT
TZOFFSETFROM:+0100
TZOFFSETTO:+0200
TZNAME:CEST
DTSTART:20230326T010000
END:DAYLIGHT
BEGIN:STANDARD
TZOFFSETFROM:+0200
TZOFFSETTO:+0100
TZNAME:CET
DTSTART:20231029T010000
END:STANDARD
BEGIN:DAYLIGHT
TZOFFSETFROM:+0100
TZOFFSETTO:+0200
TZNAME:CEST
DTSTART:20240331T010000
END:DAYLIGHT
BEGIN:STANDARD
TZOFFSETFROM:+0200
TZOFFSETTO:+0100
TZNAME:CET
DTSTART:20241027T010000
END:STANDARD
BEGIN:DAYLIGHT
TZOFFSETFROM:+0100
TZOFFSETTO:+0200
TZNAME:CEST
DTSTART:20250330T010000
END:DAYLIGHT
BEGIN:STANDARD
TZOFFSETFROM:+0200
TZOFFSETTO:+0100
TZNAME:CET
DTSTART:20251026T010000
END:STANDARD
END:VTIMEZONE
BEGIN:VEVENT
DTSTART;VALUE=DATE:20241115
DTEND;VALUE=DATE:20241118
DTSTAMP:20260422T212533
CREATED:20240824T193618Z
LAST-MODIFIED:20241011T155107Z
UID:10001059-1731628800-1731887999@www.taramandala-sangha.de
SUMMARY:Den Dämonen Nahrung geben -  Seminar mit Petra Sloan und Regina Reeb-Faller
DESCRIPTION:  \nWir alle wünschen uns\, frei und glücklich und in unserer Kraft zu sein\,\ndoch oft stehen uns dabei letztlich nicht äußere Hindernisse im Weg\,\nsondern abgewehrte\, verdrängte Aspekte unserer Persönlichkeit.\nDiese“Schattenseiten” wie gefühlsmäßige Blockaden\, Süchte\, Ängste\,\nDepressionen und ungesunde Einstellungen\, die uns leiden machen –\nunsere “Dämonen” – werden mächtiger\, je mehr wir sie bekämpfen. \n  \n  \nMit “Den Dämonen Nahrung geben” hat die buddhistische Lehrerin Lama Tsültrim Allione eine Methode entwickelt\, über Körperwahrnehmung\, Imagination und inneren Dialog mit diesen störenden Aspekten in eine annehmend-mitfühlende und “nährende” Beziehung zu treten\, um sie zu wandeln und zu integrieren\, sodass wir Zugang finden zu der darin verborgenen inneren Weisheit und Energie. Aus der tibetisch- buddhistischen Praxis “Chöd” der Yogini Machig Labdrön (11. Jh.) hat sie das alte Weisheitswissen in modernes psychologisches Verständnis übertragen und mit diesem 5-Schritte-Prozess ein äußerst effektives Werkzeug zur Selbsthilfe geschaffen. Grundlage und Sicht für diese Methode ist die Erfahrung von „Leerheit“ und offenem Gewahrsein. \n \n  \nTsültrim Allione\,\nDen Dämonen Nahrung geben\, Buddhistische Techniken zur Konfliktlösung\,  Arkana VerlG \n  \n  \n  \n  \n  \nOrt: Tibet-Kailash-Haus\, Wallstr. 8\, 79098 Freiburg \nZeit: Freitag\, 19:00 – 21:00 Uhr\, Samstag\, 9:30 – 21:00 Uhr (9:30-13 Uhr\, 15-18 Uhr\, 19:30-21 Uhr)\, Sonntag\, 9:30 – 12:30 Uhr \nSeminargebühr: 180\,- EUR regulär\n140\,- ermäßigt (für Teilnehmende mit geringem Einkommen)\nÜbernachtung und Verpflegung sind selbst zu organisieren \nAnmeldung: über das Büro des Tibet Kailash Hauses\, Tel. 0761-66814 Webseite: tibet-kailash-haus.de \n                       inhaltliche Fragen bitte an loerrach@taramandala-sangha.de \nEs sind keine Vorkenntnisse in Buddhismus und Meditation erforderlich. \nSeminarleiterinnen: \n \n\nDr. med. Regina Reeb-Faller\, ärztliche Psychotherapeutin in eigener Praxis\nin Heidelberg (TP\, ST\, Hypnotherapie\, EMDR\, Ego State\, NARM) und\närztliche Direktorin im sysTelios Gesundheitszentrum. Seit 2012 Schülerin\nvon Lama Tsültrim Allione und von ihr autorisiert\, die Methode des “Den\nDämonen Nahrung geben” zu lehren. \n  \n \n\nPetra Sloan ist verheiratet\, Mutter zweier Töchter\, Sonderschullehrerin\, Suchttherapeutin und HP für Psychotherapie. Sie begleitet seit 20 Jahren Gruppen mit Holotropem Atmen nach Grof\, mit systemischer Aufstellungsarbeit und arbeitet in der Einzelarbeit tiefenpsychologisch orientiert\, sowie mit Methoden der kontemplativen Psychologie. Sie ist seit 2003 Schülerin von Lama Tsültrim Allione. Andere Lehrer\, die ihren Weg geprägt haben\, sind Lama Rigdzin Drölma (Anne Klein)\, Tulku Sang-ngak Rinpoche und Drüpon Lama Karma. www.praxispetrasloan.de
URL:https://www.taramandala-sangha.de/veranstaltung/den-daemon-nahrung-geben-seminar-mit-petra-sloan-und-regina-reeb-faller/
LOCATION:Tibet-Kailash-Haus\, Wallstr. 8\, Freiburg\, 79098\, Deutschland
CATEGORIES:Den Dämonen Nahrung geben
ORGANIZER;CN="Regina Reeb-Faller":MAILTO:praxis@dr-reeb-faller.de
END:VEVENT
END:VCALENDAR