BEGIN:VCALENDAR
VERSION:2.0
PRODID:-//Tara Mandala-Sangha DE - ECPv6.15.18//NONSGML v1.0//EN
CALSCALE:GREGORIAN
METHOD:PUBLISH
X-WR-CALNAME:Tara Mandala-Sangha DE
X-ORIGINAL-URL:https://www.taramandala-sangha.de
X-WR-CALDESC:Veranstaltungen für Tara Mandala-Sangha DE
REFRESH-INTERVAL;VALUE=DURATION:PT1H
X-Robots-Tag:noindex
X-PUBLISHED-TTL:PT1H
BEGIN:VTIMEZONE
TZID:Europe/Berlin
BEGIN:DAYLIGHT
TZOFFSETFROM:+0100
TZOFFSETTO:+0200
TZNAME:CEST
DTSTART:20250330T010000
END:DAYLIGHT
BEGIN:STANDARD
TZOFFSETFROM:+0200
TZOFFSETTO:+0100
TZNAME:CET
DTSTART:20251026T010000
END:STANDARD
BEGIN:DAYLIGHT
TZOFFSETFROM:+0100
TZOFFSETTO:+0200
TZNAME:CEST
DTSTART:20260329T010000
END:DAYLIGHT
BEGIN:STANDARD
TZOFFSETFROM:+0200
TZOFFSETTO:+0100
TZNAME:CET
DTSTART:20261025T010000
END:STANDARD
BEGIN:DAYLIGHT
TZOFFSETFROM:+0100
TZOFFSETTO:+0200
TZNAME:CEST
DTSTART:20270328T010000
END:DAYLIGHT
BEGIN:STANDARD
TZOFFSETFROM:+0200
TZOFFSETTO:+0100
TZNAME:CET
DTSTART:20271031T010000
END:STANDARD
END:VTIMEZONE
BEGIN:VEVENT
DTSTART;TZID=Europe/Berlin:20260711T130000
DTEND;TZID=Europe/Berlin:20260711T173000
DTSTAMP:20260422T165517
CREATED:20260303T090732Z
LAST-MODIFIED:20260304T101703Z
UID:10001401-1783774800-1783791000@www.taramandala-sangha.de
SUMMARY:„Den Dämonen Nahrung geben” Einführungsstag in Winterthur
DESCRIPTION:  \n„Den Dämonen Nahrung geben” mit Regina Bommer und Christine Albrecht\n \nEine hilfreiche Methode\, um mit Mitgefühl und Verständnis die dunklen Seite unserer Seele zu heilen. \nWir alle wünschen uns\, glücklich zu sein – und erleben doch im Alltag immer wieder innere Hürden: Angst\, Druck\, Selbstzweifel oder alte Muster.\n«Den Dämonen Nahrung geben» ist eine jahrhundertealte Praxis aus dem tibetischen Chöd\, die Lama Tsültrim Allione als Fünf-Schritte-Prozess zugänglich gemacht hat. Statt innere Konflikte zu bekämpfen oder zu verdrängen\, ermöglicht sie eine achtsame Begegnung mit dem eigenen Problemen: verstehen\, integrieren – und die gebundene Weisheitsenergie in Mitgefühl freisetzen.\nDiese Einführung vermittelt Hintergrund und Ablauf der Methode und zeigt\, wie sie hilfreich und praktisch wirkt. \nDas Buch zu der Übung: Den Dämonen Nahrung geben – Buddhistische Techniken zur Konfliktlösung\, Tsültrim Allione. \nVorkenntnisse: Keine Vorkenntnisse in Buddhismus und Meditation erforderlich. Alle sind herzlich willkommen! \nZeit: 11. Jul i 2026 – 13:00 bis 17: 30 Uhr\nOrt: Yoga-Academy Winterthur – Dialogplatz 10\nwww.yoga-academy-winterthur.ch \nAnmeldung: zurich@taramandala.org\nKosten: Fr. 55\,-\n \nSeminarleiterinnen: \n \n  \nRegina Bommer Studiert und praktiziert seit 30 Jahren Meditation. Ist seit 2013 Schülerin von Lama Tsültrim Allione (seit 2017 in der Ausbildung zur Lehrerin für Tara Mandala\, seit 2015 Lehrerin für Dämonennähren). Sie leitet die Schweizer Tara Mandala Sangha. \n  \nChristine Albrecht (Tsomo Choenyid Lobsang) ist Paartherapeutin/Coach und Buddhistische Lehrerin (seit 2006 Ausbildnerin für Tibetisches Heil-Yoga durch Tulku Lobsang; Buddhistische Psychologie durch Tenzin Kalden; FYD durch Lama Tsültrim Allione)\, Meditations-Lehrerin und Buchautorin.
URL:https://www.taramandala-sangha.de/veranstaltung/den-daemonen-nahrung-geben-einfuehrungsstag-in-winterthur/
LOCATION:Yoga-Academy Winterthur\, Dialogplatz 10\, Winterthur\, Schweiz
CATEGORIES:Den Dämonen Nahrung geben
ORGANIZER;CN="Regina Bommer":MAILTO:schweiz@taramandala-sangha.de
END:VEVENT
END:VCALENDAR